BEGIN:VCALENDAR
VERSION:2.0
PRODID:-//Owenhouse Ace Hardware - ECPv6.15.20//NONSGML v1.0//EN
CALSCALE:GREGORIAN
METHOD:PUBLISH
X-WR-CALNAME:Owenhouse Ace Hardware
X-ORIGINAL-URL:https://owenhouse.com
X-WR-CALDESC:Events for Owenhouse Ace Hardware
REFRESH-INTERVAL;VALUE=DURATION:PT1H
X-Robots-Tag:noindex
X-PUBLISHED-TTL:PT1H
BEGIN:VTIMEZONE
TZID:UTC
BEGIN:STANDARD
TZOFFSETFROM:+0000
TZOFFSETTO:+0000
TZNAME:UTC
DTSTART:20250101T000000
END:STANDARD
END:VTIMEZONE
BEGIN:VEVENT
DTSTART;TZID=UTC:20260516T110000
DTEND;TZID=UTC:20260516T140000
DTSTAMP:20260420T083621
CREATED:20260409T205035Z
LAST-MODIFIED:20260409T205102Z
UID:25946830-1778929200-1778940000@owenhouse.com
SUMMARY:Traeger Day: Easy Steak Night Grill Demo (Steak & Potatoes)
DESCRIPTION:This demo is all about simple techniques\, bold flavor\, and turning an ordinary night into a steakhouse-level meal at home. \n📅 Saturday\, May 16\n🕚 11 AM – 2 PM\n📍 Both locations: West & Downtown \n🥩 Steak & Potatoes: Easy Steak Night\nWe’ll be firing up the Traeger Pellet Grill to show you how to cook the perfect steak and crispy\, flavorful potatoes – without overcomplicating it.\nWe’re teaming up with FTT Livestock\, bringing locally grown and raised Montana beef straight to the grill. You’ll taste the difference. \n🔥 Why Join Us?\nWe’re proud to be the only grill retailer in Bozeman offering FREE assembly and FREE delivery on grills $399+ – backed by a local team that actually knows how to use what we sell. \nSwing by\, sample\, and learn a few tricks you can use all grilling season long!
URL:https://owenhouse.com/event/traeger-day-demo-steak-potatoes/
LOCATION:Owenhouse Ace Hardware West & DT Locations\, 8695 Huffine Ln. & 36 E. Main St.\, Bozeman\, MT\, United States
ATTACH;FMTTYPE=image/jpeg:https://owenhouse.com/wp-content/uploads/Traeger-Day-Grill-Demo-May-2026-Owenhouse-Ace-Hardware.jpg
END:VEVENT
END:VCALENDAR