BEGIN:VCALENDAR
VERSION:2.0
PRODID:-//Owenhouse Ace Hardware - ECPv6.15.20//NONSGML v1.0//EN
CALSCALE:GREGORIAN
METHOD:PUBLISH
X-WR-CALNAME:Owenhouse Ace Hardware
X-ORIGINAL-URL:https://owenhouse.com
X-WR-CALDESC:Events for Owenhouse Ace Hardware
REFRESH-INTERVAL;VALUE=DURATION:PT1H
X-Robots-Tag:noindex
X-PUBLISHED-TTL:PT1H
BEGIN:VTIMEZONE
TZID:UTC
BEGIN:STANDARD
TZOFFSETFROM:+0000
TZOFFSETTO:+0000
TZNAME:UTC
DTSTART:20230101T000000
END:STANDARD
END:VTIMEZONE
BEGIN:VTIMEZONE
TZID:America/Denver
BEGIN:DAYLIGHT
TZOFFSETFROM:-0700
TZOFFSETTO:-0600
TZNAME:MDT
DTSTART:20230312T090000
END:DAYLIGHT
BEGIN:STANDARD
TZOFFSETFROM:-0600
TZOFFSETTO:-0700
TZNAME:MST
DTSTART:20231105T080000
END:STANDARD
BEGIN:DAYLIGHT
TZOFFSETFROM:-0700
TZOFFSETTO:-0600
TZNAME:MDT
DTSTART:20240310T090000
END:DAYLIGHT
BEGIN:STANDARD
TZOFFSETFROM:-0600
TZOFFSETTO:-0700
TZNAME:MST
DTSTART:20241103T080000
END:STANDARD
BEGIN:DAYLIGHT
TZOFFSETFROM:-0700
TZOFFSETTO:-0600
TZNAME:MDT
DTSTART:20250309T090000
END:DAYLIGHT
BEGIN:STANDARD
TZOFFSETFROM:-0600
TZOFFSETTO:-0700
TZNAME:MST
DTSTART:20251102T080000
END:STANDARD
END:VTIMEZONE
BEGIN:VEVENT
DTSTART;TZID=UTC:20241123T110000
DTEND;TZID=UTC:20241123T140000
DTSTAMP:20260420T085833
CREATED:20241122T003517Z
LAST-MODIFIED:20241122T164118Z
UID:25944773-1732359600-1732370400@owenhouse.com
SUMMARY:Thanksgrilling - both stores
DESCRIPTION:Join us for the 44th annual Christmas Stroll. \nWhen:\nNovember 23\, 2024 @ 11:00am – 2:00pm\n📍 Where:\nOwenhouse Downtown: 36 E. Main Street\, Bozeman\, MT 59715\nOwenhouse West: 8695 Huffine Ln.\, Bozeman\, MT 59718\nWhat To Expect:\nWe’re taking out the Traeger and grilling up some tasty food!
URL:https://owenhouse.com/event/thanksgrilling-both-stores/
ATTACH;FMTTYPE=image/jpeg:https://owenhouse.com/wp-content/uploads/Owenhouse-Ace-Thanksgrilling-party.jpg
END:VEVENT
BEGIN:VEVENT
DTSTART;TZID=UTC:20241121T170000
DTEND;TZID=UTC:20241121T200000
DTSTAMP:20260420T085833
CREATED:20241031T010904Z
LAST-MODIFIED:20241031T010904Z
UID:25944746-1732208400-1732219200@owenhouse.com
SUMMARY:Downtown Bozeman Ladies' Night 2024
DESCRIPTION:This is one of the most anticipated downtown events of the season and is aimed at creating a fun night for folks who want to do a little pre-holiday shopping\, enjoy dinner and drinks specials\, and spend quality time with friends! So\, grab your friends and come downtown on Thursday night the week before Thanksgiving for a fun holiday shopping experience! \nOwenhouse Ace Hardware will be your destination for giveaways\, snacks & beverages\, product demos\, and a gift card promotion you can’t beat! \nStop by our Downtown store from 5:00pm to 8:00pm! \nCheck out Downtown Bozeman’s Ladies’ Night event page for more information: https://downtownbozeman.org/event/ladies-night-2024
URL:https://owenhouse.com/event/downtown-bozeman-ladies-night-2024/
ATTACH;FMTTYPE=image/png:https://owenhouse.com/wp-content/uploads/Ladies-nights-2024-save-the-date.png
END:VEVENT
BEGIN:VEVENT
DTSTART;TZID=America/Denver:20240907T110000
DTEND;TZID=America/Denver:20240907T150000
DTSTAMP:20260420T085833
CREATED:20240903T155937Z
LAST-MODIFIED:20240903T160940Z
UID:25944383-1725706800-1725721200@owenhouse.com
SUMMARY:Dog Days of Owenhouse Ace 2024
DESCRIPTION:Join us for our Annual Dog Days of Owenhouse Ace!! Bring your dog to Owenhouse Ace!! \nWhen:\n\nSaturday\, September 7th\, 11AM-3PM (MT)\n\n📍 Where:\n\nOwenhouse West: 8695 Huffine Lane\, Bozeman\, MT 59718\nOwenhouse Downtown: 36 E. Main Street\, Bozeman\, MT 59715\n\nBoth locations:\n\n20% off all pet products if you bring in your pup!\nFree doggie bags to the first customers (while supplies last)\nFree professional pet photography from 11am to 3pm\nRoundUp for Tiny Tails at the register of both locations\nPup Cups & Bandanas\nGiveaways!!\n\nWest location:\n\nRuff Riders Mobile Dog Gym will be at the West location!\nDog Dash will be at West!\n\nDowntown location:\n\nPaw paint Art – dip your dog’s paw in pet-friendly paint and plaster it onto a piece of canvas!\nWest Paw will be there!\n\nLearn more about our partners:\n\nRound Up for Tiny Tails K9 Rescue: https://www.tinytailsk-9rescue.com/\nRuff Riders\, mobile dog gym: https://ruffridersmobiledoggym.com/\nIntermountain Therapy Animals: https://therapyanimals.org/\nWest Paw: https://www.westpaw.com/\nDogDash: https://www.dogdash3k.com/
URL:https://owenhouse.com/event/dog-days-of-owenhouse-ace-2024/
LOCATION:Owenhouse Ace Hardware West & DT Locations\, 8695 Huffine Ln. & 36 E. Main St.\, Bozeman\, MT\, United States
ATTACH;FMTTYPE=image/jpeg:https://owenhouse.com/wp-content/uploads/2024/09/OAH-DOGDAYS2024_Square-Partner.jpg
END:VEVENT
END:VCALENDAR